BEGIN:VCALENDAR
VERSION:2.0
PRODID:-//Hampshire Junior Chess Association - ECPv6.15.20//NONSGML v1.0//EN
CALSCALE:GREGORIAN
METHOD:PUBLISH
X-ORIGINAL-URL:https://www.hjca.org.uk
X-WR-CALDESC:Events for Hampshire Junior Chess Association
REFRESH-INTERVAL;VALUE=DURATION:PT1H
X-Robots-Tag:noindex
X-PUBLISHED-TTL:PT1H
BEGIN:VTIMEZONE
TZID:UTC
BEGIN:STANDARD
TZOFFSETFROM:+0000
TZOFFSETTO:+0000
TZNAME:UTC
DTSTART:20250101T000000
END:STANDARD
END:VTIMEZONE
BEGIN:VEVENT
DTSTART;TZID=UTC:20261005T180000
DTEND;TZID=UTC:20261005T193000
DTSTAMP:20260419T185250
CREATED:20240604T001010Z
LAST-MODIFIED:20260201T180010Z
UID:953-1791223200-1791228600@www.hjca.org.uk
SUMMARY:Lichess Arena Team Battle: October
DESCRIPTION:The tenth Team Battle of 2025 on the Lichess Arena will take place on Monday\, October 5th  starting at 6pm. \nPlease register at https://lichess.org/team/hampshire-junior-chess-association \nPlease register for this ASAP! \nThe match starts at 6pm monthly on a Monday night and completes by 7.30pm \nPlease register (for free) on lichess.org and then email me (John Upham) at john.upham@zen.co.uk and will get you into the team !
URL:https://www.hjca.org.uk/event/ninth-lichess-arena-team-battle/
LOCATION:Lichess Arena\, Lichess Arena
CATEGORIES:2026,Arena,Lichess,Online,Tournament
ATTACH;FMTTYPE=image/jpeg:https://www.hjca.org.uk/wp-content/uploads/2020/05/download-1.jpg
ORGANIZER;CN="John Upham":MAILTO:john.upham@zen.co.uk
END:VEVENT
BEGIN:VEVENT
DTSTART;TZID=UTC:20261025T090000
DTEND;TZID=UTC:20261025T170000
DTSTAMP:20260419T185250
CREATED:20221223T001026Z
LAST-MODIFIED:20260324T110238Z
UID:1170-1792918800-1792947600@www.hjca.org.uk
SUMMARY:Hampshire Open Junior FIDE Blitz
DESCRIPTION:The Hampshire Open Junior FIDE Blitz is for all players who are aged 18 or fewer years on August 31st 2026 regardless of location of residence and / or school. \nThere will be 15 rounds by Swiss pairings. \nSee EventBrite Entry Form for full details \nSee Swiss Manager / Chess Results \n£215 prize fund to be confirmed. \n(Please note that no Badgers will be farmed or otherwise harmed during this event)
URL:https://www.hjca.org.uk/event/hampshire-open-junior-fide-blitz/
LOCATION:Badger Farm Community Centre\, 2 Badger Farm Road\, Winchester\, England\, SO22 4QB\, United Kingdom
CATEGORIES:2026,Badger Farm Community Centre,Blitz,FIDE,OTB,Over the Board,Tournmant,Winchester
ATTACH;FMTTYPE=image/png:https://www.hjca.org.uk/wp-content/uploads/2021/09/Badger-Farm-web-header-2021.png
ORGANIZER;CN="John Upham":MAILTO:john.upham@zen.co.uk
END:VEVENT
END:VCALENDAR