BEGIN:VCALENDAR
VERSION:2.0
PRODID:-//Hampshire Junior Chess Association - ECPv6.15.20//NONSGML v1.0//EN
CALSCALE:GREGORIAN
METHOD:PUBLISH
X-WR-CALNAME:Hampshire Junior Chess Association
X-ORIGINAL-URL:https://www.hjca.org.uk
X-WR-CALDESC:Events for Hampshire Junior Chess Association
REFRESH-INTERVAL;VALUE=DURATION:PT1H
X-Robots-Tag:noindex
X-PUBLISHED-TTL:PT1H
BEGIN:VTIMEZONE
TZID:UTC
BEGIN:STANDARD
TZOFFSETFROM:+0000
TZOFFSETTO:+0000
TZNAME:UTC
DTSTART:20160101T000000
END:STANDARD
END:VTIMEZONE
BEGIN:VEVENT
DTSTART;TZID=UTC:20170507T130000
DTEND;TZID=UTC:20170507T183000
DTSTAMP:20260420T184718
CREATED:20170424T183516Z
LAST-MODIFIED:20251016T171732Z
UID:215-1494162000-1494181800@www.hjca.org.uk
SUMMARY:3rd Heatherside Congress
DESCRIPTION:Taking place in Hampshire\, Grand Master & Former Under 18 World Champion Nick Pert has organised the 3rd Heatherside Junior School Tournament & Training Day. This event has been listed on our tournament calendar and offers Junior players a great opportunity for juniors to develop and improve their chess ability. There are two main features to this event\, the tournament itself alongside specialist training for Junior players. \nDate: Sunday May 7 2017 12:45 PM – 6:00 PM BST\nLocation: Heatherside Jnr School\, Reading Road South\, Fleet\, GU52 7TH\, Fleet\, United Kingdom\nTournament\nThe tournament will be played in two sections.  The first\, an ECF graded top section for experienced juniors (max grade 150)\, for which they should be registered with the ECF as a member (first year’s silver membership is free for juniors) to avoid a £3 grading fee. This is an open section for children of all ages and abilities\, but typically children playing in this section will already have experience of playing in a number of chess tournaments. \nThe second section is not ECF graded and is designed for less experienced juniors\, who may have only played in one or two tournaments\, or even none at all\, to gain experience among other children of a similar level.\nBoth sections are rapidplay\, with 20 minutes on the clock plus a 5 second increment. \nTraining\nTraining will be provided in a separate training room by an experienced chess coach from half past each hour until 5 minutes before the start of the round. This is a fantastic opportunity for your child to get immersed in chess for the afternoon – lots of parents report great improvements in their children’s playing ability after these sessions and they’re great fun too! \nTo find out more and grab your place\, please visit the website for the 3rd Heatherside Junior School Chess Training Day & Tournament
URL:https://www.hjca.org.uk/event/3rd-heatherside-congress/
LOCATION:Heatherside Junior School\, Reading Road South\, Fleet\, Hampshire\, GU527TH\, United Kingdom
ORGANIZER;CN="GM Nick Pert":MAILTO:fleetchess@gmail.com
END:VEVENT
END:VCALENDAR