BEGIN:VCALENDAR
VERSION:2.0
PRODID:-//Hampshire Junior Chess Association - ECPv6.15.20//NONSGML v1.0//EN
CALSCALE:GREGORIAN
METHOD:PUBLISH
X-WR-CALNAME:Hampshire Junior Chess Association
X-ORIGINAL-URL:https://www.hjca.org.uk
X-WR-CALDESC:Events for Hampshire Junior Chess Association
REFRESH-INTERVAL;VALUE=DURATION:PT1H
X-Robots-Tag:noindex
X-PUBLISHED-TTL:PT1H
BEGIN:VTIMEZONE
TZID:UTC
BEGIN:STANDARD
TZOFFSETFROM:+0000
TZOFFSETTO:+0000
TZNAME:UTC
DTSTART:20260101T000000
END:STANDARD
END:VTIMEZONE
BEGIN:VEVENT
DTSTART;TZID=UTC:20270104T180000
DTEND;TZID=UTC:20270104T193000
DTSTAMP:20260419T222312
CREATED:20251016T170923Z
LAST-MODIFIED:20260205T174718Z
UID:1755-1799085600-1799091000@www.hjca.org.uk
SUMMARY:Lichess Team Arena Battle: January
DESCRIPTION:The Team Battle on the Lichess Arena will take place on Monday\, January 4th starting at 6pm. \nPlease register at: TBA \nPlease register for this ASAP! \nThe match starts at 6pm monthly on a Monday night and completes by 7.30pm \nPlease register (for free) on lichess.org and then email me (John Upham) at john.upham@zen.co.uk and will get you into the team! \n Save as PDF
URL:https://www.hjca.org.uk/event/lichess-team-arena-battle-january/
LOCATION:Lichess Arena\, Lichess Arena
CATEGORIES:2027,Blitz,Lichess,Online
ATTACH;FMTTYPE=image/jpeg:https://www.hjca.org.uk/wp-content/uploads/2020/05/download-1.jpg
ORGANIZER;CN="John Upham":MAILTO:john.upham@zen.co.uk
END:VEVENT
END:VCALENDAR