BEGIN:VCALENDAR
VERSION:2.0
PRODID:-//Hampshire Junior Chess Association - ECPv6.15.20//NONSGML v1.0//EN
CALSCALE:GREGORIAN
METHOD:PUBLISH
X-WR-CALNAME:Hampshire Junior Chess Association
X-ORIGINAL-URL:http://www.hjca.org.uk
X-WR-CALDESC:Events for Hampshire Junior Chess Association
REFRESH-INTERVAL;VALUE=DURATION:PT1H
X-Robots-Tag:noindex
X-PUBLISHED-TTL:PT1H
BEGIN:VTIMEZONE
TZID:UTC
BEGIN:STANDARD
TZOFFSETFROM:+0000
TZOFFSETTO:+0000
TZNAME:UTC
DTSTART:20250101T000000
END:STANDARD
END:VTIMEZONE
BEGIN:VEVENT
DTSTART;TZID=UTC:20260803T180000
DTEND;TZID=UTC:20260803T193000
DTSTAMP:20260419T173636
CREATED:20240604T001025Z
LAST-MODIFIED:20251206T190139Z
UID:1343-1785780000-1785785400@www.hjca.org.uk
SUMMARY:Lichess Arena Team Battle: August
DESCRIPTION:The Team Battle on the Lichess Arena will take place on Monday\, August 3rd starting at 6pm. \nPlease register at https://lichess.org/team/hampshire-junior-chess-association \nand then click https://lichess.org/tournament/wheXv87S and click “Join” when you get there. \nThe match starts at 6pm monthly on a Monday night and completes by 7.30pm \nPlease register (for free) on lichess.org and then email me (John Upham) at john.upham@zen.co.uk and will get you into the team !
URL:http://www.hjca.org.uk/event/lichess-arena-team-battle-2/
LOCATION:Lichess Arena\, Lichess Arena
CATEGORIES:2026,Arena,Lichess,Online
ATTACH;FMTTYPE=image/jpeg:http://www.hjca.org.uk/wp-content/uploads/2020/05/download-1.jpg
ORGANIZER;CN="John Upham":MAILTO:john.upham@zen.co.uk
END:VEVENT
END:VCALENDAR